OziExplorer Map Data File Version 2.2
o35-012
Y:\ozi_map\work_map\1\o35-012.jpg
1 ,Map Code,
Pulkovo 1942 (1),, 0.0000, 0.0000,WGS 84
Reserved 1
Reserved 2
Magnetic Variation,,,E
Map Projection,Transverse Mercator,PolyCal,Yes,AutoCalOnly,No,BSBUseWPX,No
Point01,xy, 78, 70,in, deg, 60, 0.0000,N, 29, 30.0000,E, grid, , , ,N
Point02,xy, 1727, 73,in, deg, 60, 0.0000,N, 29, 45.0000,E, grid, , , ,N
Point03,xy, 3376, 71,in, deg, 60, 0.0000,N, 30, 0.0000,E, grid, , , ,N
Point04,xy, 72, 2265,in, deg, 59, 50.0000,N, 29, 30.0000,E, grid, , , ,N
Point05,xy, 1729, 2268,in, deg, 59, 50.0000,N, 29, 45.0000,E, grid, , , ,N
Point06,xy, 3385, 2265,in, deg, 59, 50.0000,N, 30, 0.0000,E, grid, , , ,N
Point07,xy, 67, 4461,in, deg, 59, 40.0000,N, 29, 30.0000,E, grid, , , ,N
Point08,xy, 1733, 4463,in, deg, 59, 40.0000,N, 29, 45.0000,E, grid, , , ,N
Point09,xy, 3399, 4460,in, deg, 59, 40.0000,N, 30, 0.0000,E, grid, , , ,N
Point10,xy, , ,in, deg, , ,, , ,, grid, , , ,N
Point11,xy, , ,in, deg, , ,, , ,, grid, , , ,N
Point12,xy, , ,in, deg, , ,, , ,, grid, , , ,N
Point13,xy, , ,in, deg, , ,, , ,, grid, , , ,N
Point14,xy, , ,in, deg, , ,, , ,, grid, , , ,N
Point15,xy, , ,in, deg, , ,, , ,, grid, , , ,N
Point16,xy, , ,in, deg, , ,, , ,, grid, , , ,N
Point17,xy, , ,in, deg, , ,, , ,, grid, , , ,N
Point18,xy, , ,in, deg, , ,, , ,, grid, , , ,N
Point19,xy, , ,in, deg, , ,, , ,, grid, , , ,N
Point20,xy, , ,in, deg, , ,, , ,, grid, , , ,N
Point21,xy, , ,in, deg, , ,, , ,, grid, , , ,N
Point22,xy, , ,in, deg, , ,, , ,, grid, , , ,N
Point23,xy, , ,in, deg, , ,, , ,, grid, , , ,N
Point24,xy, , ,in, deg, , ,, , ,, grid, , , ,N
Point25,xy, , ,in, deg, , ,, , ,, grid, , , ,N
Point26,xy, , ,in, deg, , ,, , ,, grid, , , ,N
Point27,xy, , ,in, deg, , ,, , ,, grid, , , ,N
Point28,xy, , ,in, deg, , ,, , ,, grid, , , ,N
Point29,xy, , ,in, deg, , ,, , ,, grid, , , ,N
Point30,xy, , ,in, deg, , ,, , ,, grid, , , ,N
Projection Setup, 0.000000000, 27.000000000, 1.000000000, 5500000.00, 0.00,,,,,
Map Feature = MF ; Map Comment = MC These follow if they exist
Track File = TF These follow if they exist
Moving Map Parameters = MM? These follow if they exist
MM0,Yes
MMPNUM,4
MMPXY,1,76,68
MMPXY,2,3377,68
MMPXY,3,3402,4463
MMPXY,4,65,4462
MMPLL,1, 29.499653, 60.000147
MMPLL,2, 30.000213, 60.000224
MMPLL,3, 30.000506, 59.666434
MMPLL,4, 29.499659, 59.666586
MM1B,8.452299
Other Grid Setup
GRGRID,Yes,2 Km,No,16711680,255,2 Km,0,16777215,8,0,Yes,Yes,No,x
MOP,Map Open Position,0,0
IWH,Map Image Width/Height,3437,4496
